BEGIN:VCALENDAR
VERSION:2.0
PRODID:-//Washington State Association of Counties - ECPv6.5.0//NONSGML v1.0//EN
CALSCALE:GREGORIAN
METHOD:PUBLISH
X-ORIGINAL-URL:https://wsac.org
X-WR-CALDESC:Events for Washington State Association of Counties
REFRESH-INTERVAL;VALUE=DURATION:PT1H
X-Robots-Tag:noindex
X-PUBLISHED-TTL:PT1H
BEGIN:VTIMEZONE
TZID:America/Los_Angeles
BEGIN:DAYLIGHT
TZOFFSETFROM:-0800
TZOFFSETTO:-0700
TZNAME:PDT
DTSTART:20210314T100000
END:DAYLIGHT
BEGIN:STANDARD
TZOFFSETFROM:-0700
TZOFFSETTO:-0800
TZNAME:PST
DTSTART:20211107T090000
END:STANDARD
END:VTIMEZONE
BEGIN:VEVENT
DTSTART;VALUE=DATE:20210622
DTEND;VALUE=DATE:20210625
DTSTAMP:20260421T042203
CREATED:20210402T221732Z
LAST-MODIFIED:20210402T221732Z
UID:10000374-1624320000-1624579199@wsac.org
SUMMARY:WSACA Summer Meeting
DESCRIPTION:
URL:https://wsac.org/event/wsaca-summer-meeting/
LOCATION:Clarkston\, WA\, United States
CATEGORIES:Conferences
END:VEVENT
END:VCALENDAR