BEGIN:VCALENDAR
VERSION:2.0
PRODID:-//Washington State Association of Counties - ECPv6.5.0//NONSGML v1.0//EN
CALSCALE:GREGORIAN
METHOD:PUBLISH
X-ORIGINAL-URL:https://wsac.org
X-WR-CALDESC:Events for Washington State Association of Counties
REFRESH-INTERVAL;VALUE=DURATION:PT1H
X-Robots-Tag:noindex
X-PUBLISHED-TTL:PT1H
BEGIN:VTIMEZONE
TZID:America/Los_Angeles
BEGIN:DAYLIGHT
TZOFFSETFROM:-0800
TZOFFSETTO:-0700
TZNAME:PDT
DTSTART:20220313T100000
END:DAYLIGHT
BEGIN:STANDARD
TZOFFSETFROM:-0700
TZOFFSETTO:-0800
TZNAME:PST
DTSTART:20221106T090000
END:STANDARD
BEGIN:DAYLIGHT
TZOFFSETFROM:-0800
TZOFFSETTO:-0700
TZNAME:PDT
DTSTART:20230312T100000
END:DAYLIGHT
BEGIN:STANDARD
TZOFFSETFROM:-0700
TZOFFSETTO:-0800
TZNAME:PST
DTSTART:20231105T090000
END:STANDARD
BEGIN:DAYLIGHT
TZOFFSETFROM:-0800
TZOFFSETTO:-0700
TZNAME:PDT
DTSTART:20240310T100000
END:DAYLIGHT
BEGIN:STANDARD
TZOFFSETFROM:-0700
TZOFFSETTO:-0800
TZNAME:PST
DTSTART:20241103T090000
END:STANDARD
BEGIN:DAYLIGHT
TZOFFSETFROM:-0800
TZOFFSETTO:-0700
TZNAME:PDT
DTSTART:20250309T100000
END:DAYLIGHT
BEGIN:STANDARD
TZOFFSETFROM:-0700
TZOFFSETTO:-0800
TZNAME:PST
DTSTART:20251102T090000
END:STANDARD
BEGIN:DAYLIGHT
TZOFFSETFROM:-0800
TZOFFSETTO:-0700
TZNAME:PDT
DTSTART:20260308T100000
END:DAYLIGHT
BEGIN:STANDARD
TZOFFSETFROM:-0700
TZOFFSETTO:-0800
TZNAME:PST
DTSTART:20261101T090000
END:STANDARD
END:VTIMEZONE
BEGIN:VEVENT
DTSTART;VALUE=DATE:20260401
DTEND;VALUE=DATE:20260404
DTSTAMP:20260423T033143
CREATED:20251212T195523Z
LAST-MODIFIED:20260106T191357Z
UID:10000621-1775001600-1775260799@wsac.org
SUMMARY:WCAA Annual Administrator's Conference
DESCRIPTION:
URL:https://wsac.org/event/wcaa-annual-administrators-conference-4/
LOCATION:Icicle Village Resort\, 505 US-2\, Leavenworth\, WA\, 98826\, United States
CATEGORIES:Affiliate Meetings,Conferences
END:VEVENT
BEGIN:VEVENT
DTSTART;VALUE=DATE:20260210
DTEND;VALUE=DATE:20260213
DTSTAMP:20260423T033143
CREATED:20251212T195522Z
LAST-MODIFIED:20251212T195522Z
UID:10000618-1770681600-1770940799@wsac.org
SUMMARY:WSACE Professional Development Conference
DESCRIPTION:
URL:https://wsac.org/event/wsace-professional-development-conference-3/
LOCATION:Icicle Village Resort\, 505 US-2\, Leavenworth\, WA\, 98826\, United States
CATEGORIES:Affiliate Meetings,Conferences
END:VEVENT
BEGIN:VEVENT
DTSTART;VALUE=DATE:20250429
DTEND;VALUE=DATE:20250502
DTSTAMP:20260423T033143
CREATED:20250130T214336Z
LAST-MODIFIED:20250130T222100Z
UID:10000576-1745884800-1746143999@wsac.org
SUMMARY:WCIF Annual Summit
DESCRIPTION:
URL:https://wsac.org/event/wcif-annual-summit-2/
LOCATION:Icicle Village Resort\, 505 US-2\, Leavenworth\, WA\, 98826\, United States
CATEGORIES:Conferences
END:VEVENT
BEGIN:VEVENT
DTSTART;VALUE=DATE:20250409
DTEND;VALUE=DATE:20250412
DTSTAMP:20260423T033143
CREATED:20250130T212930Z
LAST-MODIFIED:20250130T221149Z
UID:10000540-1744156800-1744415999@wsac.org
SUMMARY:WCAA Annual Administrator's Conference
DESCRIPTION:
URL:https://wsac.org/event/wcaa-annual-administrators-conference-5/
LOCATION:Icicle Village Resort\, 505 US-2\, Leavenworth\, WA\, 98826\, United States
CATEGORIES:Affiliate Meetings,Conferences
END:VEVENT
BEGIN:VEVENT
DTSTART;TZID=America/Los_Angeles:20241001T080000
DTEND;TZID=America/Los_Angeles:20241004T170000
DTSTAMP:20260423T033143
CREATED:20240117T205234Z
LAST-MODIFIED:20240117T205234Z
UID:10000481-1727769600-1728061200@wsac.org
SUMMARY:WSALPHO Environmental Public Health Meeting & LBOH Training
DESCRIPTION:
URL:https://wsac.org/event/wsalpho-environmental-public-health-meeting-lboh-training/
LOCATION:Icicle Village Resort\, 505 US-2\, Leavenworth\, WA\, 98826\, United States
CATEGORIES:Affiliate Meetings,Conferences
END:VEVENT
BEGIN:VEVENT
DTSTART;TZID=America/Los_Angeles:20240410T080000
DTEND;TZID=America/Los_Angeles:20240412T170000
DTSTAMP:20260423T033143
CREATED:20240117T205235Z
LAST-MODIFIED:20240117T205235Z
UID:10000484-1712736000-1712941200@wsac.org
SUMMARY:WCAA Annual Administrator's Conference
DESCRIPTION:
URL:https://wsac.org/event/wcaa-annual-administrators-conference-3/
LOCATION:Icicle Village Resort\, 505 US-2\, Leavenworth\, WA\, 98826\, United States
CATEGORIES:Affiliate Meetings,Conferences
END:VEVENT
BEGIN:VEVENT
DTSTART;TZID=America/Los_Angeles:20240205T080000
DTEND;TZID=America/Los_Angeles:20240207T170000
DTSTAMP:20260423T033143
CREATED:20240117T205234Z
LAST-MODIFIED:20240117T205234Z
UID:10000482-1707120000-1707325200@wsac.org
SUMMARY:WSACE Professional Development Conference
DESCRIPTION:
URL:https://wsac.org/event/wsace-professional-development-conference-2/
LOCATION:Icicle Village Resort\, 505 US-2\, Leavenworth\, WA\, 98826\, United States
CATEGORIES:Affiliate Meetings,Conferences
END:VEVENT
BEGIN:VEVENT
DTSTART;VALUE=DATE:20230926
DTEND;VALUE=DATE:20230929
DTSTAMP:20260423T033143
CREATED:20230713T180736Z
LAST-MODIFIED:20230713T180756Z
UID:10000455-1695686400-1695945599@wsac.org
SUMMARY:WSALPHO Environmental Public Health Director's Fall Meeting
DESCRIPTION:
URL:https://wsac.org/event/wsalpho-environmental-public-health-directors-fall-meeting/
LOCATION:Icicle Village Resort\, 505 US-2\, Leavenworth\, WA\, 98826\, United States
CATEGORIES:Affiliate Meetings,Conferences
END:VEVENT
BEGIN:VEVENT
DTSTART;VALUE=DATE:20230612
DTEND;VALUE=DATE:20230615
DTSTAMP:20260423T033143
CREATED:20230114T002244Z
LAST-MODIFIED:20230114T002244Z
UID:10000445-1686528000-1686787199@wsac.org
SUMMARY:WSALPHO Summer Meeting
DESCRIPTION:
URL:https://wsac.org/event/wsalpho-summer-meeting/
LOCATION:Icicle Village Resort\, 505 US-2\, Leavenworth\, WA\, 98826\, United States
CATEGORIES:Affiliate Meetings,Conferences
END:VEVENT
BEGIN:VEVENT
DTSTART;VALUE=DATE:20230412
DTEND;VALUE=DATE:20230415
DTSTAMP:20260423T033143
CREATED:20230114T002742Z
LAST-MODIFIED:20230114T002742Z
UID:10000448-1681257600-1681516799@wsac.org
SUMMARY:WCAA Annual Administrator's Conference
DESCRIPTION:
URL:https://wsac.org/event/wcaa-annual-administrators-conference-2/
LOCATION:Icicle Village Resort\, 505 US-2\, Leavenworth\, WA\, 98826\, United States
CATEGORIES:Affiliate Meetings,Conferences
END:VEVENT
BEGIN:VEVENT
DTSTART;VALUE=DATE:20220606
DTEND;VALUE=DATE:20220609
DTSTAMP:20260423T033143
CREATED:20220118T180045Z
LAST-MODIFIED:20220405T191552Z
UID:10000320-1654473600-1654732799@wsac.org
SUMMARY:WSALPHO Annual Conference
DESCRIPTION:
URL:https://wsac.org/event/wsalpho-annual-conference/
LOCATION:Icicle Village Resort\, 505 US-2\, Leavenworth\, WA\, 98826\, United States
CATEGORIES:Conferences
END:VEVENT
END:VCALENDAR