BEGIN:VCALENDAR
VERSION:2.0
PRODID:-//Washington State Association of Counties - ECPv6.5.0//NONSGML v1.0//EN
CALSCALE:GREGORIAN
METHOD:PUBLISH
X-WR-CALNAME:Washington State Association of Counties
X-ORIGINAL-URL:https://wsac.org
X-WR-CALDESC:Events for Washington State Association of Counties
REFRESH-INTERVAL;VALUE=DURATION:PT1H
X-Robots-Tag:noindex
X-PUBLISHED-TTL:PT1H
BEGIN:VTIMEZONE
TZID:America/Los_Angeles
BEGIN:DAYLIGHT
TZOFFSETFROM:-0800
TZOFFSETTO:-0700
TZNAME:PDT
DTSTART:20260308T100000
END:DAYLIGHT
BEGIN:STANDARD
TZOFFSETFROM:-0700
TZOFFSETTO:-0800
TZNAME:PST
DTSTART:20261101T090000
END:STANDARD
END:VTIMEZONE
BEGIN:VEVENT
DTSTART;VALUE=DATE:20260519
DTEND;VALUE=DATE:20260522
DTSTAMP:20260423T020623
CREATED:20251212T195623Z
LAST-MODIFIED:20260106T192220Z
UID:10000640-1779148800-1779407999@wsac.org
SUMMARY:WACSWM Spring Meeting
DESCRIPTION:
URL:https://wsac.org/event/wacswm-spring-meeting/
LOCATION:Icicle Village Resort\, 505 US-2\, Leavenworth\, WA\, 98826\, United States
CATEGORIES:Affiliate Meetings,Conferences
END:VEVENT
END:VCALENDAR